BEGIN:VCALENDAR
VERSION:2.0
PRODID:-//eventon.com NONSGML v1.0//EN
CALSCALE:GREGORIAN
METHOD:PUBLISH
BEGIN:VEVENT
UID:69e4e851445f2
DTSTAMP:20260419T143601Z
DTSTART:20251025T120000Z
DTEND:20251025T200000Z
LOCATION:Canadian College of Massage &amp; Hydrotherapy 6960 Mumford Rd #180
SUMMARY:The Art of Light Touch Myofascial Release - OCT 2025
DESCRIPTION:A 1-day workshop\nhttps://stuartseminars.com/education/course-d
 ate/the-art-of-light-touch-myofascial-release-oct-2025/
URL:https://stuartseminars.com/education/course-date/the-art-of-light-touch-myofascial-release-oct-2025/
END:VEVENT
END:VCALENDAR