BEGIN:VCALENDAR
VERSION:2.0
PRODID:-//eventon.com NONSGML v1.0//EN
CALSCALE:GREGORIAN
METHOD:PUBLISH
BEGIN:VEVENT
UID:69e74ea231863
DTSTAMP:20260421T101706Z
DTSTART:20241019T120000Z
DTEND:20241020T200000Z
LOCATION:Canadian College of Massage &amp; Hydrotherapy 6960 Mumford Rd #180
SUMMARY:Light Touch Myofascial Release for Temporal Mandibular Joint Dysfunction
DESCRIPTION:A 2-day course\nhttps://stuartseminars.com/education/course-dat
 e/light-touch-myofascial-release-for-temporal-mandibular-joint-dysfunction/
URL:https://stuartseminars.com/education/course-date/light-touch-myofascial-release-for-temporal-mandibular-joint-dysfunction/
END:VEVENT
END:VCALENDAR