BEGIN:VCALENDAR
VERSION:2.0
PRODID:-//eventon.com NONSGML v1.0//EN
CALSCALE:GREGORIAN
METHOD:PUBLISH
BEGIN:VEVENT
UID:69e74ed2b19b8
DTSTAMP:20260421T101754Z
DTSTART:20240525T120000Z
DTEND:20240526T200000Z
LOCATION:Fredericton\,  NB - venue TBD
SUMMARY:Pelvic Re-balancing with Light Touch Fascial Therapy
DESCRIPTION:A 2-day course\nhttps://stuartseminars.com/education/course-dat
 e/pelvic-re-balancing-with-light-touch-fascial-fredericton-may-2024/
URL:https://stuartseminars.com/education/course-date/pelvic-re-balancing-with-light-touch-fascial-fredericton-may-2024/
END:VEVENT
END:VCALENDAR