BEGIN:VCALENDAR
VERSION:2.0
PRODID:-//eventon.com NONSGML v1.0//EN
CALSCALE:GREGORIAN
METHOD:PUBLISH
BEGIN:VEVENT
UID:69e5e4a387a03
DTSTAMP:20260420T083235Z
DTSTART:20241005T120000Z
DTEND:20241005T180000Z
LOCATION:Canadian College of Massage &amp; Hydrotherapy 6960 Mumford Rd #180
SUMMARY:Fascial Approaches: Scar Adhesion Release
DESCRIPTION:\nhttps://stuartseminars.com/education/course-date/fascial-appr
 oaches-scar-adhesion-release-feb-2024/
URL:https://stuartseminars.com/education/course-date/fascial-approaches-scar-adhesion-release-feb-2024/
END:VEVENT
END:VCALENDAR