BEGIN:VCALENDAR
VERSION:2.0
PRODID:-//eventon.com NONSGML v1.0//EN
CALSCALE:GREGORIAN
METHOD:PUBLISH
BEGIN:VEVENT
UID:69e73bc1c2720
DTSTAMP:20260421T085633Z
DTSTART:20240309T130000Z
DTEND:20240309T210000Z
LOCATION:Canadian College of Massage &amp; Hydrotherapy 6960 Mumford Rd #180
SUMMARY:Whiplash Associated Disorder (WAD) Treatment with Light Touch Fascial Therapy
DESCRIPTION:\nhttps://stuartseminars.com/education/course-date/whiplash-ass
 ociated-disorder-wad-treatment-with-light-touch-fascial-therapy-sep2024/
URL:https://stuartseminars.com/education/course-date/whiplash-associated-disorder-wad-treatment-with-light-touch-fascial-therapy-sep2024/
END:VEVENT
END:VCALENDAR